BEGIN:VCALENDAR
VERSION:2.0
PRODID:icalendar-ruby
CALSCALE:GREGORIAN
BEGIN:VEVENT
DTSTAMP:20191221T103905Z
UID:63319270-ba03-4baa-a38f-b74101d959b2
DTSTART:20191205T203000Z
DTEND:20191205T211001Z
DESCRIPTION:For students Year 0-5
LOCATION:
SUMMARY:Meet Your 2020 Teacher
URL:
END:VEVENT
END:VCALENDAR
