BEGIN:VCALENDAR
VERSION:2.0
PRODID:icalendar-ruby
CALSCALE:GREGORIAN
BEGIN:VEVENT
DTSTAMP:20191221T103908Z
UID:cc3a59e9-3327-4ccf-9603-246fcc7f1848
DTSTART:20191206T043000Z
DTEND:20191206T064501Z
DESCRIPTION:Juniors 5.30pm-6.30pm\nSeniors 6.45pm-7.45pm
LOCATION:School Hall & Function Room
SUMMARY:School DISCOs
URL:
END:VEVENT
END:VCALENDAR
