BEGIN:VCALENDAR
VERSION:2.0
PRODID:icalendar-ruby
CALSCALE:GREGORIAN
BEGIN:VEVENT
DTSTAMP:20191221T103913Z
UID:079a59aa-2664-4c89-8075-856779751281
DTSTART:20191211T050000Z
DTEND:20191211T073001Z
DESCRIPTION:5.30pm performers to arrive to get ready\n6.00pm Start\n8.30pm 
 approx finish - Children must be collected as not allowed to walk home at 
 night
LOCATION:Cambridge High School Hall
SUMMARY:Performing Arts Celebration Evening
URL:
END:VEVENT
END:VCALENDAR
