BEGIN:VCALENDAR
VERSION:2.0
PRODID:icalendar-ruby
CALSCALE:GREGORIAN
BEGIN:VEVENT
DTSTAMP:20191221T103910Z
UID:55e838db-1bdd-4f08-8d34-a44065af8753
DTSTART:20191210T211000Z
DTEND:20191210T213001Z
DESCRIPTION:
LOCATION:Function Room
SUMMARY:Parent Helpers 'Thank You' Morning Tea
URL:
END:VEVENT
END:VCALENDAR
