BEGIN:VCALENDAR
VERSION:2.0
PRODID:icalendar-ruby
CALSCALE:GREGORIAN
BEGIN:VEVENT
DTSTAMP:20191221T103904Z
UID:02f7fc8c-bab9-4214-a2b8-999bf1d6f489
DTSTART:20191203T110000Z
DTEND:20191204T110000Z
DESCRIPTION:
LOCATION:
SUMMARY:Sausage Sizzle
URL:
END:VEVENT
END:VCALENDAR
