BEGIN:VCALENDAR
VERSION:2.0
PRODID:icalendar-ruby
CALSCALE:GREGORIAN
BEGIN:VEVENT
DTSTAMP:20191221T103909Z
UID:f20dced9-2498-422a-a5f1-38c30f4be685
DTSTART:20191209T050000Z
DTEND:20191209T070001Z
DESCRIPTION:Leavers Dinner & dancing
LOCATION:School Hall & Function Room
SUMMARY:Year 6 Dinner
URL:
END:VEVENT
END:VCALENDAR
