BEGIN:VCALENDAR
VERSION:2.0
PRODID:icalendar-ruby
CALSCALE:GREGORIAN
BEGIN:VEVENT
DTSTAMP:20191221T103915Z
UID:4c69b78a-f796-43d3-9340-b822f1d6e0b8
DTSTART:20191211T211500Z
DTEND:20191212T001501Z
DESCRIPTION:
LOCATION:Cambridge High School
SUMMARY:Final Assembly/Prizegiving
URL:
END:VEVENT
END:VCALENDAR
