BEGIN:VCALENDAR
VERSION:2.0
PRODID:icalendar-ruby
CALSCALE:GREGORIAN
BEGIN:VEVENT
DTSTAMP:20191221T103907Z
UID:25843586-2138-4636-8723-6e4c17dcd18b
DTSTART:20191206T010000Z
DTEND:20191206T020001Z
DESCRIPTION:
LOCATION:
SUMMARY:Whole School Assembly
URL:
END:VEVENT
END:VCALENDAR
