BEGIN:VCALENDAR
VERSION:2.0
PRODID:icalendar-ruby
CALSCALE:GREGORIAN
BEGIN:VEVENT
DTSTAMP:20191221T103917Z
UID:f723f2c4-0736-4e0f-adf1-2bb2e98f62ad
DTSTART:20191212T234500Z
DTEND:20191212T234501Z
DESCRIPTION:
LOCATION:
SUMMARY:Term 4 ends
URL:
END:VEVENT
END:VCALENDAR
